BEGIN:VCALENDAR
VERSION:2.0
PRODID:-//Oberstdorf For Future - ECPv6.15.20//NONSGML v1.0//EN
CALSCALE:GREGORIAN
METHOD:PUBLISH
X-ORIGINAL-URL:https://oberstdorf-for-future.de
X-WR-CALDESC:Veranstaltungen für Oberstdorf For Future
REFRESH-INTERVAL;VALUE=DURATION:PT1H
X-Robots-Tag:noindex
X-PUBLISHED-TTL:PT1H
BEGIN:VTIMEZONE
TZID:UTC
BEGIN:STANDARD
TZOFFSETFROM:+0000
TZOFFSETTO:+0000
TZNAME:UTC
DTSTART:20230101T000000
END:STANDARD
END:VTIMEZONE
BEGIN:VEVENT
DTSTART;TZID=UTC:20241006T160000
DTEND;TZID=UTC:20241006T163000
DTSTAMP:20260423T193855
CREATED:20240307T103018Z
LAST-MODIFIED:20240909T051106Z
UID:2385-1728230400-1728232200@oberstdorf-for-future.de
SUMMARY:Mit der Erde stehen
DESCRIPTION:Bei der Aktion „Mit der Erde stehen“ wollen wir gemeinsam Innehalten\, Klima-Meditieren\, die Erde unter unseren Füßen wahrnehmen und Verbundenheit in Zeiten tiefgreifender Krisen spüren. Stille ist auch ein Mittel des Aktionismus. Und in der Stille verbinden wir uns mit unserer Erde. Hier in Oberstdorf haben wir 2 Orte gewählt an denen wir wechselweise Stehen werden. Jeweils am 1. Sonntag im Monat stehen wir im Kurpark\, am 3. Sonntag des Monats immer oben auf der Hofmannsruhe an der alten weisen Linde. \nWir treffen uns um 17:00 Uhr im Kurpark nähe des Megever Platzes. \nWir greifen eine Aktionsform von Heike Pourian auf\, die sie in ihrem Buch „Wenn wir wieder wahrnehmen“ ausführlich beschrieben hat. \nSollte es regnen\, dann vergesst den Regenschirm nicht – wir stehen ca. 30 Minuten und tauschen uns hinterher in einer Runde aus. \nWir freuen uns über eure Teilnahme.
URL:https://oberstdorf-for-future.de/event/mit-der-erde-stehen-23/
LOCATION:Kurpark Oberstdorf\, Prinz Regenten Platz 1\, Oberstdorf\, 87561\, Deutschland
CATEGORIES:Aktion,Demonstration,Termine & Veranstaltungen von Oberstdorf for Future,Veranstaltungshinweis
ATTACH;FMTTYPE=image/jpeg:https://oberstdorf-for-future.de/wp-content/uploads/2023/04/IMG_20230521_172837_resized_20230521_072915351.jpg
ORGANIZER;CN="Oberstdorf for Future":MAILTO:info@oberstdorf-for-future.de
END:VEVENT
BEGIN:VEVENT
DTSTART;TZID=UTC:20241020T170000
DTEND;TZID=UTC:20241020T180000
DTSTAMP:20260423T193855
CREATED:20240307T103344Z
LAST-MODIFIED:20240804T120335Z
UID:2387-1729443600-1729447200@oberstdorf-for-future.de
SUMMARY:Mit der Erde stehen
DESCRIPTION:Bei der Aktion „Mit der Erde stehen“ wollen wir gemeinsam Innehalten\, Klima-Meditieren\, die Erde unter unseren Füßen wahrnehmen und Verbundenheit in Zeiten tiefgreifender Krisen spüren. Stille ist auch ein Mittel des Aktionismus. Und in der Stille verbinden wir uns mit unserer Erde. Hier in Oberstdorf haben wir 2 Orte gewählt an denen wir wechselweise Stehen werden. Jeweils am 1. Sonntag im Monat stehen wir im Kurpark\, am 3. Sonntag des Monats immer oben auf der Hofmannsruhe an der alten weisen Linde. \nWir treffen uns um 17:00 Uhr an der alten Linde oben auf der Hofmannsruhe in Oberstdorf. \nWir greifen eine Aktionsform von Heike Pourian auf\, die sie in ihrem Buch „Wenn wir wieder wahrnehmen“ ausführlich beschrieben hat. \nSollte es regnen\, dann vergesst den Regenschirm nicht – wir stehen ca. 30 Minuten und tauschen uns hinterher in einer Runde aus. \nWir freuen uns über eure Teilnahme.
URL:https://oberstdorf-for-future.de/event/mit-der-erde-stehen-24/
LOCATION:Hofmannsruhe\, Oberstdorf\, Oberstdorf\, 87561\, Deutschland
CATEGORIES:Aktion,Demonstration,Termine & Veranstaltungen von Oberstdorf for Future,Veranstaltungshinweis
ATTACH;FMTTYPE=image/jpeg:https://oberstdorf-for-future.de/wp-content/uploads/2023/04/klein-mitdererdestehen-banner-OFF-JW-e1736596741667.jpg
ORGANIZER;CN="Oberstdorf for Future":MAILTO:info@oberstdorf-for-future.de
END:VEVENT
END:VCALENDAR