BEGIN:VCALENDAR
VERSION:2.0
PRODID:-//Oberstdorf For Future - ECPv6.15.20//NONSGML v1.0//EN
CALSCALE:GREGORIAN
METHOD:PUBLISH
X-WR-CALNAME:Oberstdorf For Future
X-ORIGINAL-URL:https://oberstdorf-for-future.de
X-WR-CALDESC:Veranstaltungen für Oberstdorf For Future
REFRESH-INTERVAL;VALUE=DURATION:PT1H
X-Robots-Tag:noindex
X-PUBLISHED-TTL:PT1H
BEGIN:VTIMEZONE
TZID:UTC
BEGIN:STANDARD
TZOFFSETFROM:+0000
TZOFFSETTO:+0000
TZNAME:UTC
DTSTART:20230101T000000
END:STANDARD
END:VTIMEZONE
BEGIN:VEVENT
DTSTART;TZID=UTC:20240411T180000
DTEND;TZID=UTC:20240411T200000
DTSTAMP:20260425T233657
CREATED:20240409T054640Z
LAST-MODIFIED:20240409T055158Z
UID:2500-1712858400-1712865600@oberstdorf-for-future.de
SUMMARY:EXTERN :: Make it circular: Unternehmenswege in die Zirkularität
DESCRIPTION:Du hattest schon immer mal Lust dich näher mit dem Thema „Circular Economy“ zu beschäftigen? Du interessierst dich für Nachhaltigkeit im Unternehmen und möchtest mehr darüber erfahren\, wie zirkuläre Geschäftsmodelle ausssehen? Dann bist du in der Live-Online-Session des WWF One Planet Hub genau richtig. \nDie Live-Online-Session am 11. April 2024 um 18:00 Uhr steht unter dem Titel: „Make it circular: Unternehmenswege in die Zirkularität“\nReferent:innen: \n\nSilke Küstner\, Senior Project Manager Circular Economy (WWF Deutschland)\nDr. Dominik Patzelt\, Sustainability Consultant (WWF Deutschland)\nRobert Klauer\, Circular Business Development (VAUDE)\n\nDu willst dabei sein? Einfach unter www.wwf.de/oneplanethub für den Digital Deep Dive registrieren und die Einwahldaten zur Live-Online-Session bequem per E-Mail erhalten.
URL:https://oberstdorf-for-future.de/event/extern-make-it-circular-unternehmenswege-in-die-zirkularitaet/
LOCATION:ONLINE-Veranstaltung
CATEGORIES:Online,Veranstaltungshinweis
ATTACH;FMTTYPE=image/jpeg:https://oberstdorf-for-future.de/wp-content/uploads/2024/04/WWF_OPH_Unternehmenswege-in-die-Zirkularitaet.jpg
END:VEVENT
BEGIN:VEVENT
DTSTART;TZID=UTC:20240423T180000
DTEND;TZID=UTC:20240423T200000
DTSTAMP:20260425T233657
CREATED:20240409T055107Z
LAST-MODIFIED:20240409T055207Z
UID:2505-1713895200-1713902400@oberstdorf-for-future.de
SUMMARY:EXTERN :: Circular Society: Wie sieht eine zirkuläre Gesellschaft aus?
DESCRIPTION:Du möchtest dein Leben möglichst nachhaltig gestalten und dich für eine Circular Economy einsetzen? Du bist auf der Suche nach Wissen und Impulsen\, wie du dazu einen Beitrag leisten kannst? Dann ist die Live-Online-Session „Circular Society: Wie sieht eine zirkuläre Gesellschaft aus?“ am 23. April um 18:00 Uhr genau das richtige für dich. \nMit dabei sind: \n\nSilke Küstner\, Senior Project Manager Circular Economy (WWF Deutschland)\nDr. Ralph Boch\, Vorstand Hans Sauer Stiftung\nDina Padalkina\, City and Built Environment Lead (Circular Berlin e.V.)\n\nKlingt spannend? Einfach unter www.wwf.de/oneplanethub für den Digital Deep Dive registrieren und die Einwahldaten zur Live-Online-Session bequem per E-Mail erhalten.
URL:https://oberstdorf-for-future.de/event/extern-circular-society-wie-sieht-eine-zirkulaere-gesellschaft-aus/
LOCATION:ONLINE-Veranstaltung
CATEGORIES:Online,Veranstaltungshinweis
ATTACH;FMTTYPE=image/jpeg:https://oberstdorf-for-future.de/wp-content/uploads/2024/04/WWF_OPH_Circular-Society.jpg
END:VEVENT
END:VCALENDAR