BEGIN:VCALENDAR
VERSION:2.0
PRODID:-//Oberstdorf For Future - ECPv6.15.20//NONSGML v1.0//EN
CALSCALE:GREGORIAN
METHOD:PUBLISH
X-WR-CALNAME:Oberstdorf For Future
X-ORIGINAL-URL:https://oberstdorf-for-future.de
X-WR-CALDESC:Veranstaltungen für Oberstdorf For Future
REFRESH-INTERVAL;VALUE=DURATION:PT1H
X-Robots-Tag:noindex
X-PUBLISHED-TTL:PT1H
BEGIN:VTIMEZONE
TZID:UTC
BEGIN:STANDARD
TZOFFSETFROM:+0000
TZOFFSETTO:+0000
TZNAME:UTC
DTSTART:20250101T000000
END:STANDARD
END:VTIMEZONE
BEGIN:VEVENT
DTSTART;TZID=UTC:20260422T193000
DTEND;TZID=UTC:20260422T213000
DTSTAMP:20260422T012731
CREATED:20260111T152854Z
LAST-MODIFIED:20260111T154334Z
UID:3530-1776886200-1776893400@oberstdorf-for-future.de
SUMMARY:Monatstreffen - Oberstdorf for Future
DESCRIPTION:Wir treffen uns jeden Monat um gemeinsam zu überlegen\, wie wir in Oberstdorf das Thema Klimaschutz voranbringen können. Alle Bürger OBERSTDORFs\, aber auch Gäste sind herzlich eingeladen mit dabei zu sein. \nWir treffen uns im Hotel Wittelsbacher Hof in Oberstdorf. Je nach Bedarf bieten wir gerne eine Online-Übertragung an. Wenn Ihr hierfür Interesse habt schickt uns bitte eine E-Mail an info@oberstdorf-for-future.de. \nWir schicken dann rechtzeitig den Link zur Teilnahme. \nUnsere 5 Leitgedanken (die uns bei allen Vorhaben und Treffen unterstützen)\n\nUns leiten die Themen Klimaschutz\, Gemeinschaftsarbeit und Bewusstseinsbildung.\nWir schaffen Begegnungsmöglichkeiten in Form von Informationsveranstaltungen\, Ideenräumen und Aktionen.\nWir pflegen ein respektvolles Miteinander\, sind wertschätzend im Austausch\, diskutieren Positionen klar und lösungsorientiert.\nWir bringen uns konstruktiv zum Wohle der Gemeinschaft von Mensch\, Tier und Mitwelt ein.\nWir setzen Impulse für Oberstdorf und verbinden uns mit Kooperationspartnern und Interessierten.
URL:https://oberstdorf-for-future.de/event/monatsmeeting-oberstdorf-for-future-4/
LOCATION:Wittelsbacher Hof\, Prinzenstr. 24\, Oberstdorf\, 87561\, Deutschland
CATEGORIES:Sitzungen,Termine & Veranstaltungen von Oberstdorf for Future
ORGANIZER;CN="Oberstdorf for Future":MAILTO:info@oberstdorf-for-future.de
END:VEVENT
END:VCALENDAR